BEGIN:VCALENDAR
VERSION:2.0
PRODID:-//Museum Nieuwlande - ECPv6.15.20//NONSGML v1.0//EN
CALSCALE:GREGORIAN
METHOD:PUBLISH
X-WR-CALNAME:Museum Nieuwlande
X-ORIGINAL-URL:https://museumnieuwlande.nl
X-WR-CALDESC:Evenementen voor Museum Nieuwlande
REFRESH-INTERVAL;VALUE=DURATION:PT1H
X-Robots-Tag:noindex
X-PUBLISHED-TTL:PT1H
BEGIN:VTIMEZONE
TZID:UTC
BEGIN:STANDARD
TZOFFSETFROM:+0000
TZOFFSETTO:+0000
TZNAME:UTC
DTSTART:20250101T000000
END:STANDARD
END:VTIMEZONE
BEGIN:VEVENT
DTSTART;TZID=UTC:20260421T193000
DTEND;TZID=UTC:20260421T213000
DTSTAMP:20260421T102334
CREATED:20260325T101653Z
LAST-MODIFIED:20260418T094606Z
UID:2909-1776799800-1776807000@museumnieuwlande.nl
SUMMARY:'Weerbaar'\, het verhaal van Arnold Douwes
DESCRIPTION:Ter gelegenheid van het verschijnen van Weerbaar\, de biografie van verzetsman Arnold Douwes\, komt auteur Michiel van Diggelen naar De Duikelaar.Tijdens zijn lezing op 21 april zal Van Diggelen vertellen over Douwes en zijn verzetswerk.\nIn ‘Weerbaar’ beschrijven Michiel van Diggelen en Richard Tanke het leven van Arnold Douwes. De verzetsman had vastomlijnde opvattingen over recht en gerechtigheid\, goed en kwaad. Hij kon erg boos worden als mensen oneerlijk werden behandeld\, maar ook als zij niet deden wat hij van hen verlangde. Hij handelde intuïtief en was niet gevoelig voor wat anderen van hem verwachtten of dachten\, overtuigd dat hij het goede deed.\nMet deze biografie willen de auteurs het leven van Arnold Douwes neerzetten als inspiratiebron van individuele weerbaarheid en voorbeeld van verzet tegen onrechtvaardigheid en racisme. Tijdens de lezing in De Duikelaar zal de periode 1942-1945 centraal staan\, de periode waarin Douwes hulp bood aan Joodse onderduikers. Van Diggelen vertelt wat er zo bijzonder was aan de persoon Arnold Douwes en hoe het hem gelukt is om in samenwerking met anderen zoveel Joden te redden.\nExtra info: www.arnolddouwes.nl \nDe lezing is kosteloos te bezoeken\, maar in verband met het aantal beschikbare plaatsen is aanmelden vooraf wel noodzakelijk. \nDatum: Dinsdag 21 april 2026\nAanvang:  19.30 uur  (inloop 19.15 uur)\nLocatie: Onderduikersmuseum De Duikelaar\, Julianalaan 3\, Nieuwlande\nAanmelden: reservering@museumnieuwlande.nl
URL:https://museumnieuwlande.nl/activiteit/weerbaar-het-verhaal-van-arnold-douwes/
LOCATION:Onderduikersmuseum de Duikelaar\, Julianalaan 3\, Nieuwlande\, 7918 AH\, Netherlands
ATTACH;FMTTYPE=image/jpeg:https://museumnieuwlande.nl/wp-content/uploads/2026/03/Frontcover-Weerbaar-Arnold-Douwes-klein.jpg
END:VEVENT
END:VCALENDAR